BEGIN:VCALENDAR
VERSION:2.0
PRODID:-//Great River Region Disciples - ECPv6.15.17//NONSGML v1.0//EN
CALSCALE:GREGORIAN
METHOD:PUBLISH
X-WR-CALNAME:Great River Region Disciples
X-ORIGINAL-URL:https://grrdisciples.org
X-WR-CALDESC:Events for Great River Region Disciples
REFRESH-INTERVAL;VALUE=DURATION:PT1H
X-Robots-Tag:noindex
X-PUBLISHED-TTL:PT1H
BEGIN:VTIMEZONE
TZID:UTC
BEGIN:STANDARD
TZOFFSETFROM:+0000
TZOFFSETTO:+0000
TZNAME:UTC
DTSTART:20200101T000000
END:STANDARD
END:VTIMEZONE
BEGIN:VTIMEZONE
TZID:America/Chicago
BEGIN:DAYLIGHT
TZOFFSETFROM:-0600
TZOFFSETTO:-0500
TZNAME:CDT
DTSTART:20200308T080000
END:DAYLIGHT
BEGIN:STANDARD
TZOFFSETFROM:-0500
TZOFFSETTO:-0600
TZNAME:CST
DTSTART:20201101T070000
END:STANDARD
BEGIN:DAYLIGHT
TZOFFSETFROM:-0600
TZOFFSETTO:-0500
TZNAME:CDT
DTSTART:20210314T080000
END:DAYLIGHT
BEGIN:STANDARD
TZOFFSETFROM:-0500
TZOFFSETTO:-0600
TZNAME:CST
DTSTART:20211107T070000
END:STANDARD
BEGIN:DAYLIGHT
TZOFFSETFROM:-0600
TZOFFSETTO:-0500
TZNAME:CDT
DTSTART:20220313T080000
END:DAYLIGHT
BEGIN:STANDARD
TZOFFSETFROM:-0500
TZOFFSETTO:-0600
TZNAME:CST
DTSTART:20221106T070000
END:STANDARD
BEGIN:DAYLIGHT
TZOFFSETFROM:-0600
TZOFFSETTO:-0500
TZNAME:CDT
DTSTART:20230312T080000
END:DAYLIGHT
BEGIN:STANDARD
TZOFFSETFROM:-0500
TZOFFSETTO:-0600
TZNAME:CST
DTSTART:20231105T070000
END:STANDARD
END:VTIMEZONE
BEGIN:VEVENT
DTSTART;VALUE=DATE:20230314
DTEND;VALUE=DATE:20230317
DTSTAMP:20260420T010918
CREATED:20230209T200257Z
LAST-MODIFIED:20230209T200257Z
UID:1139-1678752000-1679011199@grrdisciples.org
SUMMARY:Black Ministers Retreat
DESCRIPTION:Click here to Register
URL:https://grrdisciples.org/event/black-ministers-retreat/
ATTACH;FMTTYPE=image/jpeg:https://grrdisciples.org/wp-content/uploads/2023/02/Black-Minister-Retreat.jpg
END:VEVENT
BEGIN:VEVENT
DTSTART;VALUE=DATE:20230303
DTEND;VALUE=DATE:20230305
DTSTAMP:20260420T010918
CREATED:20221116T201013Z
LAST-MODIFIED:20221116T201013Z
UID:991-1677801600-1677974399@grrdisciples.org
SUMMARY:Regional Board
DESCRIPTION:
URL:https://grrdisciples.org/event/regional-board/
END:VEVENT
BEGIN:VEVENT
DTSTART;VALUE=DATE:20230224
DTEND;VALUE=DATE:20230227
DTSTAMP:20260420T010918
CREATED:20221115T161932Z
LAST-MODIFIED:20221115T161932Z
UID:985-1677196800-1677455999@grrdisciples.org
SUMMARY:Snoasis
DESCRIPTION:
URL:https://grrdisciples.org/event/snoasis-2/
END:VEVENT
BEGIN:VEVENT
DTSTART;VALUE=DATE:20230208
DTEND;VALUE=DATE:20230210
DTSTAMP:20260420T010918
CREATED:20230103T171952Z
LAST-MODIFIED:20230103T171952Z
UID:1086-1675814400-1675987199@grrdisciples.org
SUMMARY:RCOM
DESCRIPTION:
URL:https://grrdisciples.org/event/rcom/
END:VEVENT
BEGIN:VEVENT
DTSTART;VALUE=DATE:20230119
DTEND;VALUE=DATE:20230317
DTSTAMP:20260420T010918
CREATED:20230110T164143Z
LAST-MODIFIED:20230110T183350Z
UID:1100-1674086400-1679011199@grrdisciples.org
SUMMARY:Covenant Conversations
DESCRIPTION:Click here to register \nBring your favorite cup of coffee\, tea\, or hot cocoa as we dialog about how we live our lives through covenantal relationships in all expressions of the church! \nLet’s keep it simple\, no stress\, no dressing up. Make sure to share the link with your congregation! We want to hear your voice as you share in Covenant Conversation with our disciple’s family! \nWe would love to have you in the group discussion as we journey through interactive conversation towards faithfully living into covenant as the Christian Church (Disciples of Christ)! \nThe five guided sessions in the curriculum we will be using are provided by The Governance Committee of the General Board – Spring 2021. It can be found at https://disciples.org/our-identity/covenant-conversation/ \nOur first dialog session is Thursday\, January 19\, 2023\, at 7:00 p.m. During this meeting\, we will complete a pre-survey. Sessions will be rolled out over five meetings and will last 1 hour. When all sessions are completed\, we will conduct a post-survey. \nSession Dates and Times:\nJanuary 19\, 2023\, 7:00 pm – 8:00 pm\nFebruary 2\, 2023\, 7:00 pm – 8:00 pm\nFebruary 16\, 2023\, 7:00 pm – 8:00 pm\nMarch 2\, 2023\, 7:00 pm – 8:00 pm\nMarch 16\, 2023\, 7:00 pm – 8:00 pm \nWe look forward to seeing those who can attend.
URL:https://grrdisciples.org/event/covenant-conversations/
ATTACH;FMTTYPE=image/jpeg:https://grrdisciples.org/wp-content/uploads/2023/01/Copy-of-MISSISIPPI-CLERGY-CONGREGATIONS.jpg
END:VEVENT
BEGIN:VEVENT
DTSTART;VALUE=DATE:20221223
DTEND;VALUE=DATE:20230103
DTSTAMP:20260420T010918
CREATED:20221115T162614Z
LAST-MODIFIED:20221213T172612Z
UID:988-1671753600-1672703999@grrdisciples.org
SUMMARY:Regional Office Closed
DESCRIPTION:
URL:https://grrdisciples.org/event/regional-office-closed-2/
END:VEVENT
BEGIN:VEVENT
DTSTART;TZID=UTC:20221208T180000
DTEND;TZID=UTC:20221208T190000
DTSTAMP:20260420T010918
CREATED:20221115T162135Z
LAST-MODIFIED:20221129T162444Z
UID:986-1670522400-1670526000@grrdisciples.org
SUMMARY:Blue Christmas
DESCRIPTION:We want to invite you to our second annual Blue Christmas Service. This event will be held via Zoom on Thursday\, December 8\, 2022. Rev. Dr. Nearline Anderson\, Associate Regional Minister for Mississippi\, will lead us in a service of healing\, peace\, and comfort for family and friends experiencing grief during this season.\nUse the link below to join us. \n  \nLink to join: https://us02web.zoom.us/j/87659212530?pwd=N01Yeks0NERmN21mb0s5OGI3Rm9DQT09 \n 
URL:https://grrdisciples.org/event/blue-christmas/
ATTACH;FMTTYPE=image/png:https://grrdisciples.org/wp-content/uploads/2022/11/Blue-Christmas-22-2.png
END:VEVENT
BEGIN:VEVENT
DTSTART;VALUE=DATE:20221130
DTEND;VALUE=DATE:20221201
DTSTAMP:20260420T010918
CREATED:20220429T184146Z
LAST-MODIFIED:20220429T184146Z
UID:752-1669766400-1669852799@grrdisciples.org
SUMMARY:Clergy Zoom Meeting
DESCRIPTION:There will be a morning(11:30 am) and evening check-in(6:00 pm). \nContact the Regional Office if you need the zoom link.
URL:https://grrdisciples.org/event/clergy-zoom-meeting-7/
END:VEVENT
BEGIN:VEVENT
DTSTART;VALUE=DATE:20221127
DTEND;VALUE=DATE:20221225
DTSTAMP:20260420T010918
CREATED:20221115T162707Z
LAST-MODIFIED:20221129T162135Z
UID:989-1669507200-1671926399@grrdisciples.org
SUMMARY:Advent
DESCRIPTION:
URL:https://grrdisciples.org/event/advent/
END:VEVENT
BEGIN:VEVENT
DTSTART;VALUE=DATE:20221124
DTEND;VALUE=DATE:20221126
DTSTAMP:20260420T010918
CREATED:20221115T162518Z
LAST-MODIFIED:20221115T162518Z
UID:987-1669248000-1669420799@grrdisciples.org
SUMMARY:Regional Office Closed
DESCRIPTION:The Regional Office will be closed for Thanksgiving.
URL:https://grrdisciples.org/event/regional-office-closed/
END:VEVENT
BEGIN:VEVENT
DTSTART;VALUE=DATE:20221028
DTEND;VALUE=DATE:20221030
DTSTAMP:20260420T010918
CREATED:20210628T031203Z
LAST-MODIFIED:20220419T165253Z
UID:212-1666915200-1667087999@grrdisciples.org
SUMMARY:Regional Assembly
DESCRIPTION:Stay tuned for more information.
URL:https://grrdisciples.org/event/regional-assembly/
END:VEVENT
BEGIN:VEVENT
DTSTART;VALUE=DATE:20221026
DTEND;VALUE=DATE:20221027
DTSTAMP:20260420T010918
CREATED:20220429T184045Z
LAST-MODIFIED:20220429T184045Z
UID:751-1666742400-1666828799@grrdisciples.org
SUMMARY:Clergy Zoom Meeting
DESCRIPTION:There will be a morning(11:30 am) and evening check-in(6:00 pm). \nContact the Regional Office if you need the zoom link.
URL:https://grrdisciples.org/event/clergy-zoom-meeting-6/
END:VEVENT
BEGIN:VEVENT
DTSTART;VALUE=DATE:20220928
DTEND;VALUE=DATE:20220929
DTSTAMP:20260420T010918
CREATED:20220429T184001Z
LAST-MODIFIED:20220429T184001Z
UID:750-1664323200-1664409599@grrdisciples.org
SUMMARY:Clergy Zoom Meeting
DESCRIPTION:There will be a morning(11:30 am) and evening check-in(6:00 pm). \nContact the Regional Office if you need the zoom link.
URL:https://grrdisciples.org/event/clergy-zoom-meeting-5/
END:VEVENT
BEGIN:VEVENT
DTSTART;VALUE=DATE:20220909
DTEND;VALUE=DATE:20220912
DTSTAMP:20260420T010918
CREATED:20220429T182825Z
LAST-MODIFIED:20220429T183108Z
UID:743-1662681600-1662940799@grrdisciples.org
SUMMARY:Disciples Women Fall Retreat
DESCRIPTION:The Annual GRR Disciples Women Fall Retreat will take place on September 9-11\, 2022\, at the Eagle Ridge Convention Center in Raymond\, MS. Rev. Angéle Saunders Johnson\, Executive Director of Disciples Women\, will be the keynote. Stay tuned for more information.
URL:https://grrdisciples.org/event/disciples-women-fall-retreat/
END:VEVENT
BEGIN:VEVENT
DTSTART;VALUE=DATE:20220824
DTEND;VALUE=DATE:20220825
DTSTAMP:20260420T010918
CREATED:20220429T183915Z
LAST-MODIFIED:20220429T183915Z
UID:749-1661299200-1661385599@grrdisciples.org
SUMMARY:Clergy Zoom Meeting
DESCRIPTION:There will be a morning(11:30 am) and evening check-in(6:00 pm). \nContact the Regional Office if you need the zoom link.
URL:https://grrdisciples.org/event/clergy-zoom-meeting-4/
END:VEVENT
BEGIN:VEVENT
DTSTART;TZID=UTC:20220805T180000
DTEND;TZID=UTC:20220805T210000
DTSTAMP:20260420T010918
CREATED:20211124T181435Z
LAST-MODIFIED:20220422T190845Z
UID:531-1659722400-1659733200@grrdisciples.org
SUMMARY:Regional Board Meeting
DESCRIPTION:
URL:https://grrdisciples.org/event/regional-board-meeting-3/
END:VEVENT
BEGIN:VEVENT
DTSTART;VALUE=DATE:20220727
DTEND;VALUE=DATE:20220728
DTSTAMP:20260420T010918
CREATED:20220429T183839Z
LAST-MODIFIED:20220429T183839Z
UID:748-1658880000-1658966399@grrdisciples.org
SUMMARY:Clergy Zoom Meeting
DESCRIPTION:There will be a morning(11:30 am) and evening check-in(6:00 pm). \nContact the Regional Office if you need the zoom link.
URL:https://grrdisciples.org/event/clergy-zoom-meeting-3/
END:VEVENT
BEGIN:VEVENT
DTSTART;TZID=UTC:20220716T100000
DTEND;TZID=UTC:20220716T113000
DTSTAMP:20260420T010918
CREATED:20220520T211644Z
LAST-MODIFIED:20220713T230123Z
UID:796-1657965600-1657971000@grrdisciples.org
SUMMARY:Reimagining Church in this New Era Workshop
DESCRIPTION:As we move into a post-pandemic era\, local congregations are challenged with discerning how to become sustainable and offer life-changing ministry to their communities. Churches that thrive have one thing in common\, a clear sense of their WHY. This clarity of purpose is defined within the context of the intersection of the three cycles of the congregation. Learn how the life\, financial\, and building cycles of a congregation intersect within a culture of a clear sense of identity and purpose to achieve sustainability and vitality in the congregation.\nRegister:https://us02web.zoom.us/meeting/register/tZ0odu6qpzsjE9TtKFK62AKWOewGchPQugdZ?fbclid=IwAR1Q45-KSjP1aqzvumyNWklmcY-oQiKyaIfHK-6T27OW6icaCqXXvzPDOac
URL:https://grrdisciples.org/event/reimagining-church-is-this-new-era/
ATTACH;FMTTYPE=image/jpeg:https://grrdisciples.org/wp-content/uploads/2022/05/Reimagining-Church-in-this-new-era-Workshop-2000-×-1080-px-2.jpg
END:VEVENT
BEGIN:VEVENT
DTSTART;VALUE=DATE:20220711
DTEND;VALUE=DATE:20220716
DTSTAMP:20260420T010918
CREATED:20220429T184740Z
LAST-MODIFIED:20220429T184740Z
UID:754-1657497600-1657929599@grrdisciples.org
SUMMARY:Camp Magnolia
DESCRIPTION:
URL:https://grrdisciples.org/event/camp-magnolia/
END:VEVENT
BEGIN:VEVENT
DTSTART;VALUE=DATE:20220622
DTEND;VALUE=DATE:20220623
DTSTAMP:20260420T010918
CREATED:20220429T183754Z
LAST-MODIFIED:20220429T183754Z
UID:747-1655856000-1655942399@grrdisciples.org
SUMMARY:Clergy Zoom Meeting
DESCRIPTION:There will be a morning(11:30 am) and evening check-in(6:00 pm). \nContact the Regional Office if you need the zoom link.
URL:https://grrdisciples.org/event/clergy-zoom-meeting-2/
END:VEVENT
BEGIN:VEVENT
DTSTART;VALUE=DATE:20220608
DTEND;VALUE=DATE:20220610
DTSTAMP:20260420T010918
CREATED:20220429T184250Z
LAST-MODIFIED:20220429T184250Z
UID:753-1654646400-1654819199@grrdisciples.org
SUMMARY:RCOM Meeting
DESCRIPTION:
URL:https://grrdisciples.org/event/rcom-meeting-2/
END:VEVENT
BEGIN:VEVENT
DTSTART;VALUE=DATE:20220525
DTEND;VALUE=DATE:20220526
DTSTAMP:20260420T010918
CREATED:20220429T183236Z
LAST-MODIFIED:20220429T183637Z
UID:745-1653436800-1653523199@grrdisciples.org
SUMMARY:Clergy Zoom Meeting
DESCRIPTION:There will be a morning(11:30 am) and evening check-in(6:00 pm). \nContact the Regional Office if you need the zoom link.
URL:https://grrdisciples.org/event/clergy-zoom-meeting/
END:VEVENT
BEGIN:VEVENT
DTSTART;TZID=UTC:20220329T180000
DTEND;TZID=UTC:20220329T210000
DTSTAMP:20260420T010918
CREATED:20211124T180729Z
LAST-MODIFIED:20211124T180729Z
UID:530-1648576800-1648587600@grrdisciples.org
SUMMARY:Regional Board Meeting
DESCRIPTION:
URL:https://grrdisciples.org/event/regional-board-meeting-2/
END:VEVENT
BEGIN:VEVENT
DTSTART;VALUE=DATE:20220225
DTEND;VALUE=DATE:20220228
DTSTAMP:20260420T010918
CREATED:20210628T030854Z
LAST-MODIFIED:20220106T174556Z
UID:211-1645747200-1646006399@grrdisciples.org
SUMMARY:Snoasis
DESCRIPTION:Stay tuned for more information.
URL:https://grrdisciples.org/event/snoasis/
ATTACH;FMTTYPE=image/png:https://grrdisciples.org/wp-content/uploads/2022/01/Snoasis222.png
END:VEVENT
BEGIN:VEVENT
DTSTART;VALUE=DATE:20220209
DTEND;VALUE=DATE:20220211
DTSTAMP:20260420T010918
CREATED:20211208T173121Z
LAST-MODIFIED:20211208T173121Z
UID:555-1644364800-1644537599@grrdisciples.org
SUMMARY:RCOM Meeting
DESCRIPTION:
URL:https://grrdisciples.org/event/rcom-meeting/
END:VEVENT
BEGIN:VEVENT
DTSTART;TZID=UTC:20220116T140000
DTEND;TZID=UTC:20220116T160000
DTSTAMP:20260420T010918
CREATED:20211208T164252Z
LAST-MODIFIED:20211220T213727Z
UID:552-1642341600-1642348800@grrdisciples.org
SUMMARY:Lessons from Disciples: Polity & History Workshop
DESCRIPTION:United Christian Church in Jackson\, MS\, will host a Polity & History Workshop on January 16\, 2022\, from 2:00-4:00 pm. Rev. Dr. Nadine Burton will facilitate this in-person workshop.
URL:https://grrdisciples.org/event/lessons-from-disciples-polity-history-workshop/
LOCATION:United Christian Church\, 1732 Florence Ave\, Jackson\, MS\, 39204\, United States
ATTACH;FMTTYPE=image/png:https://grrdisciples.org/wp-content/uploads/2021/12/Lessons-from-Disciples-Polity-History-Workshop-1.png
END:VEVENT
BEGIN:VEVENT
DTSTART;TZID=UTC:20211215T180000
DTEND;TZID=UTC:20211215T190000
DTSTAMP:20260420T010918
CREATED:20211123T172054Z
LAST-MODIFIED:20211123T172054Z
UID:518-1639591200-1639594800@grrdisciples.org
SUMMARY:Blue Christmas Zoom Service
DESCRIPTION:
URL:https://grrdisciples.org/event/blue-christmas-zoom-service/
ATTACH;FMTTYPE=image/png:https://grrdisciples.org/wp-content/uploads/2021/11/Blue-Christmas-Zoom-Service-3.png
END:VEVENT
BEGIN:VEVENT
DTSTART;TZID=UTC:20211204T090000
DTEND;TZID=UTC:20211204T150000
DTSTAMP:20260420T010918
CREATED:20211124T175956Z
LAST-MODIFIED:20211124T175956Z
UID:527-1638608400-1638630000@grrdisciples.org
SUMMARY:FCC - Arts  & Crafts Christmas Bazaar
DESCRIPTION:
URL:https://grrdisciples.org/event/fcc-arts-crafts-christmas-bazaar/
LOCATION:First Christian Church\, 14411 Taylor Loop Rd.\, Little Rock\, AR\, 72223\, United States
ATTACH;FMTTYPE=image/jpeg:https://grrdisciples.org/wp-content/uploads/2021/11/cdf9bc0a-81aa-92ee-594f-6b995b90c77f.jpg
END:VEVENT
BEGIN:VEVENT
DTSTART;VALUE=DATE:20211112
DTEND;VALUE=DATE:20211115
DTSTAMP:20260420T010918
CREATED:20210628T025150Z
LAST-MODIFIED:20211007T141231Z
UID:210-1636675200-1636934399@grrdisciples.org
SUMMARY:Fall Fandango
DESCRIPTION:We are excited about our Fall Fandango theme which is based on the ideal of UNITY within the body of Christ. We will explore human issues which may cause divisions as well as devaluation of each persons’ unique gifts\, experiences\, and viewpoints. Christ seeks to make us ONE body of believers. Our scriptures include Psalm 133:1\, 1 Corinthians 12:15-27\, Ephesians 4:15-16\, and Ecclesiastes 4:9-12. Click here to learn more.
URL:https://grrdisciples.org/event/fall-fandango/
ATTACH;FMTTYPE=image/jpeg:https://grrdisciples.org/wp-content/uploads/2021/10/Fall-Fandango-2021.jpg
END:VEVENT
BEGIN:VEVENT
DTSTART;VALUE=DATE:20211106
DTEND;VALUE=DATE:20211107
DTSTAMP:20260420T010918
CREATED:20210628T024935Z
LAST-MODIFIED:20210628T024935Z
UID:209-1636156800-1636243199@grrdisciples.org
SUMMARY:2021 Annual Gathering
DESCRIPTION:This year’s Annual Gathering will at First Christian Church in Fort Smith\, Arkansas. Stay tuned for more information.
URL:https://grrdisciples.org/event/2021-annual-gathering/
END:VEVENT
END:VCALENDAR