BEGIN:VCALENDAR
VERSION:2.0
PRODID:-//Great River Region Disciples - ECPv6.15.17//NONSGML v1.0//EN
CALSCALE:GREGORIAN
METHOD:PUBLISH
X-WR-CALNAME:Great River Region Disciples
X-ORIGINAL-URL:https://grrdisciples.org
X-WR-CALDESC:Events for Great River Region Disciples
REFRESH-INTERVAL;VALUE=DURATION:PT1H
X-Robots-Tag:noindex
X-PUBLISHED-TTL:PT1H
BEGIN:VTIMEZONE
TZID:UTC
BEGIN:STANDARD
TZOFFSETFROM:+0000
TZOFFSETTO:+0000
TZNAME:UTC
DTSTART:20250101T000000
END:STANDARD
END:VTIMEZONE
BEGIN:VEVENT
DTSTART;VALUE=DATE:20261113
DTEND;VALUE=DATE:20261116
DTSTAMP:20260420T010641
CREATED:20251202T160726Z
LAST-MODIFIED:20260318T185216Z
UID:1923-1794528000-1794787199@grrdisciples.org
SUMMARY:Regional Assembly 2026
DESCRIPTION:Location: FCC Sherwood\, AR
URL:https://grrdisciples.org/event/regional-assembly-2026/
ATTACH;FMTTYPE=image/png:https://grrdisciples.org/wp-content/uploads/2025/12/Rooted-in-Love-2.png
END:VEVENT
END:VCALENDAR