BEGIN:VCALENDAR
VERSION:2.0
PRODID:-//Great River Region Disciples - ECPv6.15.17//NONSGML v1.0//EN
CALSCALE:GREGORIAN
METHOD:PUBLISH
X-ORIGINAL-URL:https://grrdisciples.org
X-WR-CALDESC:Events for Great River Region Disciples
REFRESH-INTERVAL;VALUE=DURATION:PT1H
X-Robots-Tag:noindex
X-PUBLISHED-TTL:PT1H
BEGIN:VTIMEZONE
TZID:UTC
BEGIN:STANDARD
TZOFFSETFROM:+0000
TZOFFSETTO:+0000
TZNAME:UTC
DTSTART:20240101T000000
END:STANDARD
END:VTIMEZONE
BEGIN:VEVENT
DTSTART;VALUE=DATE:20251107
DTEND;VALUE=DATE:20251109
DTSTAMP:20260419T191938
CREATED:20250911T183308Z
LAST-MODIFIED:20250929T212551Z
UID:1874-1762473600-1762646399@grrdisciples.org
SUMMARY:Annual Gathering 2025
DESCRIPTION:You’re Invited to Our Annual Gathering! \nJoin us November 7–8 at Park Hill Christian Church in North Little Rock\, AR\, for a meaningful time of connection\, training\, and fellowship. \nClick here to register: https://docs.google.com/forms/d/e/1FAIpQLSeLAuR19e6ctToQlza2s9KWI2wjnRVN1w3WGRnF-DFo3wlGHw/viewform \nPlease register in advance so we can plan accordingly and make sure there’s plenty of food for everyone. \n  \nFriday\, November 7 \nWe will kick off the Gathering with Healthy Boundaries Training led by Minister Kristen Beach from 9:00 AM to 3:00 PM. Lunch will be provided at 12:00 PM. Boundaries Training is required every five years to maintain standing in the Great River Region. Click here to register for Boundaries Training. \nSaturday\, November 8 \nWe’ll begin the day with a Board Meeting from 9:00 AM to 11:30 AM. At 11:30 AM\, the fellowship portion of our Gathering begins with lunch\, followed by a World Café conversation. We’ll wrap things up by 2:00 PM. Come be part of this time to learn\, share\, and grow together. \n 
URL:https://grrdisciples.org/event/annual-gathering-2025/
ATTACH;FMTTYPE=image/png:https://grrdisciples.org/wp-content/uploads/2025/09/Annual-Gathering-2025-1.png
END:VEVENT
END:VCALENDAR